BEGIN:VCALENDAR
VERSION:2.0
PRODID:-//Musar Avicha Shul - ECPv6.15.11//NONSGML v1.0//EN
CALSCALE:GREGORIAN
METHOD:PUBLISH
X-ORIGINAL-URL:https://musar-avicha.org
X-WR-CALDESC:Events for Musar Avicha Shul
REFRESH-INTERVAL;VALUE=DURATION:PT1H
X-Robots-Tag:noindex
X-PUBLISHED-TTL:PT1H
BEGIN:VTIMEZONE
TZID:Europe/Helsinki
BEGIN:DAYLIGHT
TZOFFSETFROM:+0200
TZOFFSETTO:+0300
TZNAME:EEST
DTSTART:20220327T010000
END:DAYLIGHT
BEGIN:STANDARD
TZOFFSETFROM:+0300
TZOFFSETTO:+0200
TZNAME:EET
DTSTART:20221030T010000
END:STANDARD
BEGIN:DAYLIGHT
TZOFFSETFROM:+0200
TZOFFSETTO:+0300
TZNAME:EEST
DTSTART:20230326T010000
END:DAYLIGHT
BEGIN:STANDARD
TZOFFSETFROM:+0300
TZOFFSETTO:+0200
TZNAME:EET
DTSTART:20231029T010000
END:STANDARD
BEGIN:DAYLIGHT
TZOFFSETFROM:+0200
TZOFFSETTO:+0300
TZNAME:EEST
DTSTART:20240331T010000
END:DAYLIGHT
BEGIN:STANDARD
TZOFFSETFROM:+0300
TZOFFSETTO:+0200
TZNAME:EET
DTSTART:20241027T010000
END:STANDARD
END:VTIMEZONE
BEGIN:VTIMEZONE
TZID:UTC
BEGIN:STANDARD
TZOFFSETFROM:+0000
TZOFFSETTO:+0000
TZNAME:UTC
DTSTART:20170101T000000
END:STANDARD
END:VTIMEZONE
BEGIN:VEVENT
DTSTART;TZID=Europe/Helsinki:20230320T193000
DTEND;TZID=Europe/Helsinki:20230320T213000
DTSTAMP:20260425T183120
CREATED:20221205T080537Z
LAST-MODIFIED:20230313T205916Z
UID:5347-1679340600-1679347800@musar-avicha.org
SUMMARY:Pre-Pesach Seminar in English
DESCRIPTION:
URL:https://musar-avicha.org/event/pre-pesach-seminar-in-english/
LOCATION:Musar Avicha\, Israel
END:VEVENT
BEGIN:VEVENT
DTSTART;TZID=UTC:20180721T203000
DTEND;TZID=UTC:20180721T220000
DTSTAMP:20260425T183120
CREATED:20180901T080033Z
LAST-MODIFIED:20180708T080538Z
UID:1984-1532205000-1532210400@musar-avicha.org
SUMMARY:Shabbat Dinner for Teens - סעודת שבת לנוער
DESCRIPTION:
URL:https://musar-avicha.org/event/shabbat-dinner-for-teens-%d7%a1%d7%a2%d7%95%d7%93%d7%aa-%d7%a9%d7%91%d7%aa-%d7%9c%d7%a0%d7%95%d7%a2%d7%a8/
END:VEVENT
END:VCALENDAR