BEGIN:VCALENDAR
VERSION:2.0
PRODID:-//Musar Avicha Shul - ECPv6.15.11//NONSGML v1.0//EN
CALSCALE:GREGORIAN
METHOD:PUBLISH
X-WR-CALNAME:Musar Avicha Shul
X-ORIGINAL-URL:https://musar-avicha.org/?lang=he
X-WR-CALDESC:אירועים ל Musar Avicha Shul
REFRESH-INTERVAL;VALUE=DURATION:PT1H
X-Robots-Tag:noindex
X-PUBLISHED-TTL:PT1H
BEGIN:VTIMEZONE
TZID:UTC
BEGIN:STANDARD
TZOFFSETFROM:+0000
TZOFFSETTO:+0000
TZNAME:UTC
DTSTART:20220101T000000
END:STANDARD
END:VTIMEZONE
BEGIN:VEVENT
DTSTART;TZID=UTC:20230205T184500
DTEND;TZID=UTC:20230205T223000
DTSTAMP:20260425T201115
CREATED:20230126T194224Z
LAST-MODIFIED:20230126T195752Z
UID:5370-1675622700-1675636200@musar-avicha.org
SUMMARY:הכנסת ספר תורה סדר ט"ו בשבט
DESCRIPTION:
URL:https://musar-avicha.org/event/hachnasat-sefer-torah/?lang=he
LOCATION:הנבל 27 ומוסר אביך
END:VEVENT
END:VCALENDAR